BEGIN:VCALENDAR
VERSION:2.0
PRODID:-//STC OBA MELBOURNE - ECPv6.3.5//NONSGML v1.0//EN
CALSCALE:GREGORIAN
METHOD:PUBLISH
X-WR-CALNAME:STC OBA MELBOURNE
X-ORIGINAL-URL:https://stcoba.org.au
X-WR-CALDESC:Events for STC OBA MELBOURNE
REFRESH-INTERVAL;VALUE=DURATION:PT1H
X-Robots-Tag:noindex
X-PUBLISHED-TTL:PT1H
BEGIN:VTIMEZONE
TZID:UTC
BEGIN:STANDARD
TZOFFSETFROM:+0000
TZOFFSETTO:+0000
TZNAME:UTC
DTSTART:20240101T000000
END:STANDARD
END:VTIMEZONE
BEGIN:VEVENT
DTSTART;TZID=UTC:20240209T183000
DTEND;TZID=UTC:20240209T210000
DTSTAMP:20260423T110907
CREATED:20240126T011839Z
LAST-MODIFIED:20240126T012325Z
UID:164-1707503400-1707512400@stcoba.org.au
SUMMARY:AGM 2024
DESCRIPTION:Annual General Meeting of the S. Thomas College Old Boy’s Melbourne branch is to be held on Friday 9th February 2024 at Mount Waverley Youth Centre\, 45 Miller Crescent\, Mount Waverley. \nDATE: Friday 9th February 2024 \nTIME: 6.30 p.m. – Registration / Address check / payment of subscriptions \n7.00 p.m. – AGM commences. \nVENUE: Mount Waverley Youth Centre\, 45 Miller Crescent\, Mount Waverley
URL:https://stcoba.org.au/event/agm-2024/
LOCATION:Mount Waverley Youth Centre\, 45 Miller Crescent\, Mount Waverley\, Victoria\, 3149\, Australia
CATEGORIES:AGM
END:VEVENT
END:VCALENDAR